BEGIN:VCALENDAR
VERSION:2.0
PRODID:-//ChamberMaster//Event Calendar 2.0//EN
METHOD:PUBLISH
X-PUBLISHED-TTL:P3D
REFRESH-INTERVAL:P3D
CALSCALE:GREGORIAN
BEGIN:VEVENT
DTSTART:20180307T193000Z
DTEND:20180307T210000Z
X-MICROSOFT-CDO-ALLDAYEVENT:FALSE
SUMMARY:Business Connections
DESCRIPTION:The Business Connections Luncheon is an opportunity for Chamber members get to know each other and their businesses in a format that provides time to build the trust and confidence that leads to lasting relationships and new customers.\n\n\n\nOur Featured Speaker will be Sari Olcott of Money Movers\n\n\n\nMerchant Services:\n\nNavigating rates   the myth of what a sales agent tells you you're paying and what you're really paying\n\nUnderstanding the difference between tiered pricing and interchange + pricing\n\nWhy and how to avoid leasing equipment\n\nPCI compliance and what it means to your company
X-ALT-DESC;FMTTYPE=text/html:<div style="color: rgb(64\, 63\, 66)\; font-family: Arial\, Verdana\, Helvetica\, sans-serif\; font-size: 12px\; text-align: center\;">\n<div>The Business Connections Luncheon is an opportunity for Chamber members get to know each other and their businesses in a format that provides time to build the trust and confidence that leads to lasting relationships and new customers.<br />\n<br />\nOur Featured Speaker will be Sari Olcott of Money Movers<br />\n<br />\nMerchant Services:<br />\nNavigating rates &ndash\; the myth of what a sales agent tells you you&rsquo\;re paying and what you&rsquo\;re really paying<br />\nUnderstanding the difference between tiered pricing and interchange + pricing<br />\nWhy and how to avoid leasing equipment<br />\nPCI compliance and what it means to your company<br />\n&nbsp\;</div>\n</div>\n\n<div style="color: rgb(64\, 63\, 66)\; font-family: Arial\, Verdana\, Helvetica\, sans-serif\; font-size: 12px\; text-align: center\;"><br />\n&nbsp\;</div>\n
LOCATION:Marshall Canyon Golf Course 6100 Stephens Ranch Rd
UID:e.1883.540
SEQUENCE:3
DTSTAMP:20260422T194547Z
URL:https://business.lavernechamber.org/events/details/business-connections-540
END:VEVENT

END:VCALENDAR
