BEGIN:VCALENDAR
VERSION:2.0
PRODID:-//ChamberMaster//Event Calendar 2.0//EN
METHOD:PUBLISH
X-PUBLISHED-TTL:P3D
REFRESH-INTERVAL:P3D
CALSCALE:GREGORIAN
BEGIN:VEVENT
DTSTART:20180404T183000Z
DTEND:20180404T200000Z
X-MICROSOFT-CDO-ALLDAYEVENT:FALSE
SUMMARY:Business Connections
DESCRIPTION:The Business Connections Luncheon is an opportunity for Chamber members get to know each other and their businesses in a format that provides time to build the trust and confidence that leads to lasting relationships and new customers.\n\n\n\n\n\nAbout our Featured Speaker:\n\nThe SBDC is the SBA's largest service program and provides high quality business & economic development assistance to small businesses & entrepreneurs.\n\nThey will be teaching us social media tools and techniques every business should know!
X-ALT-DESC;FMTTYPE=text/html:<div style="color: rgb(64\, 63\, 66)\; font-family: Arial\, Verdana\, Helvetica\, sans-serif\; font-size: 12px\; text-align: center\;">\n<div>The Business Connections Luncheon is an opportunity for Chamber members get to know each other and their businesses in a format that provides time to build the trust and confidence that leads to lasting relationships and new customers.</div>\n</div>\n\n<div style="color: rgb(64\, 63\, 66)\; font-family: Arial\, Verdana\, Helvetica\, sans-serif\; text-align: center\;">\n<div style=""><br />\n<font size="1">About our Featured Speaker:</font><br />\n<span style="color: rgb(49\, 49\, 49)\; font-family: &quot\;Proxima N W01 Light&quot\;\, Helvetica\, Arial\, sans-serif\; text-align: center\;"><span style="font-size: 14px\;">The SBDC is the SBA&rsquo\;s largest service program and provides high quality business &amp\; economic development assistance to small businesses &amp\; entrepreneurs.<br />\nThey will be teaching us social media tools and techniques every business should know!</span></span><span style="font-size: 24px\; color: rgb(49\, 49\, 49)\; font-family: &quot\;Proxima N W01 Light&quot\;\, Helvetica\, Arial\, sans-serif\; text-align: center\;">&nbsp\;</span><br />\n<br />\n&nbsp\;</div>\n</div>\n
LOCATION:Marshall Canyon Golf Course 6100 Stephens Ranch Rd
UID:e.1883.620
SEQUENCE:3
DTSTAMP:20260422T180531Z
URL:https://business.lavernechamber.org/events/details/business-connections-620
END:VEVENT

END:VCALENDAR
