BEGIN:VCALENDAR
VERSION:2.0
PRODID:-//ChamberMaster//Event Calendar 2.0//EN
METHOD:PUBLISH
X-PUBLISHED-TTL:P3D
REFRESH-INTERVAL:P3D
CALSCALE:GREGORIAN
BEGIN:VEVENT
DTSTART:20180502T183000Z
DTEND:20180502T200000Z
X-MICROSOFT-CDO-ALLDAYEVENT:FALSE
SUMMARY:Business Connections
DESCRIPTION:The Business Connections Luncheon is an opportunity for Chamber members get to know each other and their businesses in a format that provides time to build the trust and confidence that leads to lasting relationships and new customers.\n\n\n\n\n\nAbout our Featured Speaker:\n\nWays for businesses to engage at the FAIRPLEX from booking events/meetings\, to sponsorship opportunities\, to employee volunteer opportunities
X-ALT-DESC;FMTTYPE=text/html:<div style="color: rgb(64\, 63\, 66)\; font-family: Arial\, Verdana\, Helvetica\, sans-serif\; font-size: 12px\; text-align: center\;">\n<div>The Business Connections Luncheon is an opportunity for Chamber members get to know each other and their businesses in a format that provides time to build the trust and confidence that leads to lasting relationships and new customers.</div>\n</div>\n\n<div style="text-align: center\;">\n<div style=""><br />\n<font size="1" style="color: rgb(64\, 63\, 66)\; font-family: Arial\, Verdana\, Helvetica\, sans-serif\;">About our Featured Speaker:</font><br />\n<font color="#313131" face="Proxima N W01 Light\, Helvetica\, Arial\, sans-serif"><span style="font-size: 14px\;">W</span></font><span style="font-family: &quot\;arial narrow&quot\;\, sans-serif\; font-size: 12pt\;">ays for businesses to engage at the FAIRPLEX from booking events/meetings\, to sponsorship opportunities\, to employee volunteer opportunities&nbsp\;</span><br />\n&nbsp\;</div>\n</div>\n
LOCATION:Marshall Canyon Golf Course 6100 Stephens Ranch Rd
UID:e.1883.642
SEQUENCE:3
DTSTAMP:20260422T162907Z
URL:https://business.lavernechamber.org/events/details/business-connections-642
END:VEVENT

END:VCALENDAR
