BEGIN:VCALENDAR
VERSION:2.0
PRODID:-//ChamberMaster//Event Calendar 2.0//EN
METHOD:PUBLISH
X-PUBLISHED-TTL:P3D
REFRESH-INTERVAL:P3D
CALSCALE:GREGORIAN
BEGIN:VEVENT
DTSTART:20170503T183000Z
DTEND:20170503T200000Z
X-MICROSOFT-CDO-ALLDAYEVENT:FALSE
SUMMARY:Business Connections Luncheon
DESCRIPTION:COME CELEBRATE CINCO DE MAYO  AT THE MONTHLY LA VERNE CHAMBER CONNECTION'S LUNCHEON\n\n \nThe Business Connections Luncheon is an opportunity for Chamber members get to know each other and their businesses in a format that provides time to build the trust and confidence that leads to lasting relationships and new customers.\n\n\n \n\nThe featured speaker will be Mark Fulgenzi of the La Verne bike Coalition.  Mark will enlighten us and identify the increased business opportunities for businesses that promote cycling.\n\n  You will enjoy a delicious Mexican Fiesta Buffet with all the trimmings.\n\n \n\nWe also encourage all those in attendance\, to let us how you plan on honoring that special Mother in your life.
X-ALT-DESC;FMTTYPE=text/html:<div style="color: rgb(64\, 63\, 66)\; font-family: Arial\, Verdana\, Helvetica\, sans-serif\; font-size: 12px\; text-align: center\;">\n<div>COME CELEBRATE CINCO DE MAYO &nbsp\;AT THE MONTHLY LA VERNE CHAMBER CONNECTION&#39\;S LUNCHEON</div>\n\n<div>&nbsp\;</div>\nThe Business Connections Luncheon is an opportunity for Chamber members get to know each other and their businesses in a format that provides time to build the trust and confidence that leads to lasting relationships and new customers.</div>\n\n<div style="color: rgb(64\, 63\, 66)\; font-family: Arial\, Verdana\, Helvetica\, sans-serif\; font-size: 12px\; text-align: center\;">\n<div>&nbsp\;</div>\n\n<div>The featured speaker will be Mark Fulgenzi of the La Verne bike Coalition. &nbsp\;Mark will enlighten us and identify the increased business opportunities for businesses that promote cycling.</div>\n\n<div>&nbsp\; You will enjoy a delicious Mexican Fiesta Buffet with all the trimmings.</div>\n\n<div>&nbsp\;</div>\n\n<div>We also encourage all those in attendance\, to let us how you plan on honoring that special Mother in your life.</div>\n</div>\n
LOCATION:The Meeting Room at Hillcrest 2705 Mountain View Drive
UID:e.1883.113
SEQUENCE:3
DTSTAMP:20260423T111041Z
URL:https://business.lavernechamber.org/events/details/business-connections-luncheon-113
END:VEVENT

END:VCALENDAR
