BEGIN:VCALENDAR
VERSION:2.0
PRODID:-//ChamberMaster//Event Calendar 2.0//EN
METHOD:PUBLISH
X-PUBLISHED-TTL:P3D
REFRESH-INTERVAL:P3D
CALSCALE:GREGORIAN
BEGIN:VEVENT
DTSTART:20171004T183000Z
DTEND:20171004T200000Z
X-MICROSOFT-CDO-ALLDAYEVENT:FALSE
SUMMARY:Business Connections Luncheon
DESCRIPTION:The Business Connections Luncheon is an opportunity for Chamber members get to know each other and their businesses in a format that provides time to build the trust and confidence that leads to lasting relationships and new customers.\n\n\n\n \n\n\nOur featured speaker will be the South Bay Workforce Investment Board\n\n\n\n\nCatering will be provided by Norm's Hangar Coffee Shop
X-ALT-DESC;FMTTYPE=text/html:<div style="color: rgb(64\, 63\, 66)\; font-family: Arial\, Verdana\, Helvetica\, sans-serif\; font-size: 12px\; text-align: center\;">\n<div>The Business Connections Luncheon is an opportunity for Chamber members get to know each other and their businesses in a format that provides time to build the trust and confidence that leads to lasting relationships and new customers.</div>\n</div>\n\n<div style="color: rgb(64\, 63\, 66)\; font-family: Arial\, Verdana\, Helvetica\, sans-serif\; font-size: 12px\; text-align: center\;">\n<div>&nbsp\;</div>\n<br />\nOur featured speaker will be the South Bay Workforce Investment Board\n<div><br />\n<br />\nCatering will be provided by Norm&#39\;s Hangar Coffee Shop</div>\n\n<div>&nbsp\;</div>\n\n<div>&nbsp\;</div>\n</div>\n
LOCATION:The Conference Room at Brackett Field Airport 1615 McKinley Ave
UID:e.1883.352
SEQUENCE:3
DTSTAMP:20260423T045753Z
URL:https://business.lavernechamber.org/events/details/business-connections-luncheon-352
END:VEVENT

END:VCALENDAR
