BEGIN:VCALENDAR
VERSION:2.0
PRODID:-//ChamberMaster//Event Calendar 2.0//EN
METHOD:PUBLISH
X-PUBLISHED-TTL:P3D
REFRESH-INTERVAL:P3D
CALSCALE:GREGORIAN
BEGIN:VEVENT
DTSTART:20180207T193000Z
DTEND:20180207T210000Z
X-MICROSOFT-CDO-ALLDAYEVENT:FALSE
SUMMARY:Business Connections Luncheon
DESCRIPTION:The Business Connections Luncheon is an opportunity for Chamber members get to know each other and their businesses in a format that provides time to build the trust and confidence that leads to lasting relationships and new customers.\n\n\n\n\n\nAbout our Featured Speaker:\n\nErrol Erin has over fifteen years of experience in the distribution and real estate industries.  Errol began his career in accounting four years ago with Ernst & Young\, serving the real estate industry and transitioned to CliftonLarsonAllen a year ago to serve a broader client base of businesses and individuals.  Errol enjoys spending time with his wife and their 8-month old twins\, as well as woodworking\, landscaping and mixology.  \n\n\n\nThis presentation will cover how the recent tax reform changes will affect small businesses including sole proprietorships\, C corporations\, S corporations\, partnerships.  It will also touch on tax reform changes for individuals and differences between federal law and California law.
X-ALT-DESC;FMTTYPE=text/html:<div style="color: rgb(64\, 63\, 66)\; font-family: Arial\, Verdana\, Helvetica\, sans-serif\; font-size: 12px\; text-align: center\;">\n<div>The Business Connections Luncheon is an opportunity for Chamber members get to know each other and their businesses in a format that provides time to build the trust and confidence that leads to lasting relationships and new customers.</div>\n</div>\n\n<div style="color: rgb(64\, 63\, 66)\; font-family: Arial\, Verdana\, Helvetica\, sans-serif\; font-size: 12px\; text-align: center\;">\n<div><br />\nAbout our Featured Speaker:<br />\n<span style="color:#1F497D\;">Errol Erin has over fifteen years of experience in the distribution and real estate industries.&nbsp\; Errol began his career in accounting four years ago with Ernst &amp\; Young\, serving the real estate industry and transitioned to CliftonLarsonAllen a year ago to serve a broader client base of businesses and individuals.&nbsp\; Errol enjoys spending time with his wife and their 8-month old twins\, as well as woodworking\, landscaping and mixology.&nbsp\;&nbsp\;</span><br />\n<br />\n<span style="color:#1F497D\;">This presentation will cover how the recent tax reform changes will affect small businesses including sole proprietorships\, C corporations\, S corporations\, partnerships.&nbsp\; It will also touch on tax reform changes for individuals and differences between federal law and California law.</span><br />\n&nbsp\;</div>\n&nbsp\;\n\n<div>&nbsp\;</div>\n</div>\n
LOCATION:Marshall Canyon Golf Course 6100 Stephens Ranch Rd
UID:e.1883.477
SEQUENCE:3
DTSTAMP:20260422T225849Z
URL:https://business.lavernechamber.org/events/details/business-connections-luncheon-477
END:VEVENT

END:VCALENDAR
