BEGIN:VCALENDAR
VERSION:2.0
PRODID:-//ChamberMaster//Event Calendar 2.0//EN
METHOD:PUBLISH
X-PUBLISHED-TTL:P3D
REFRESH-INTERVAL:P3D
CALSCALE:GREGORIAN
BEGIN:VEVENT
DTSTART:20191212T030000Z
DTEND:20191212T040000Z
X-MICROSOFT-CDO-ALLDAYEVENT:FALSE
SUMMARY:Chamber Ensembles Concert
DESCRIPTION:Be entertained by a variety of music ensembles while enjoying a delicious spread of refreshments
X-ALT-DESC;FMTTYPE=text/html:<p><span style="background-color:transparent\; color:rgb(0\, 0\, 0)\; font-family:arial\; font-size:11pt">Be entertained by a variety of music ensembles while enjoying a delicious spread of refreshments</span></p>\n\n<div>&nbsp\;</div>\n
LOCATION:Cabaret Theatre
UID:e.1883.2128
SEQUENCE:3
DTSTAMP:20260421T144809Z
URL:https://business.lavernechamber.org/events/details/chamber-ensembles-concert-2128
END:VEVENT

END:VCALENDAR
