BEGIN:VCALENDAR
VERSION:2.0
PRODID:-//ChamberMaster//Event Calendar 2.0//EN
METHOD:PUBLISH
X-PUBLISHED-TTL:P3D
REFRESH-INTERVAL:P3D
CALSCALE:GREGORIAN
BEGIN:VEVENT
DTSTART:20190418T233000Z
DTEND:20190419T040000Z
X-MICROSOFT-CDO-ALLDAYEVENT:FALSE
SUMMARY:Chamber Night at Angel Stadium
DESCRIPTION:Come out to Angel Stadium to enjoy networking and a ballgame with the\n\nAnaheim\, Newport\, Irvine\, La Verne\, & Upland Chambers\, along with Greater\n\nWest Covina Business Association! This ticket would include your first drink\, a\n\nnetworking event with multiple chambers and a ticket in our Field All-Star\n\nlocation.\n\nThe networking event will be in the Music Garden starting at 5 PM. Check-in\n\nwill begin at 4:30 PM at Gate 1.\n\nTo purchase tickets visit: http://angels.com/chamber
X-ALT-DESC;FMTTYPE=text/html:<div><span style="font-size: 13px\;">Come out to Angel Stadium to enjoy networking and a ballgame with the</span></div>\n\n<div><span style="font-size: 13px\;">Anaheim\, Newport\, Irvine\, La Verne\, &amp\; Upland Chambers\, along with Greater</span></div>\n\n<div><span style="font-size: 13px\;">West Covina Business Association! This ticket would include your first drink\, a</span></div>\n\n<div><span style="font-size: 13px\;">networking event with multiple chambers and a ticket in our Field All-Star</span></div>\n\n<div><span style="font-size: 13px\;">location.</span></div>\n\n<div><span style="font-size: 13px\;">The networking event will be in the Music Garden starting at 5 PM. Check-in</span></div>\n\n<div><span style="font-size: 13px\;">will begin at 4:30 PM at Gate 1.</span></div>\n\n<div><span style="font-size: 13px\;">To purchase tickets visit: http://angels.com/chamber</span></div>\n
LOCATION:Angel Stadium
UID:e.1883.1363
SEQUENCE:3
DTSTAMP:20260422T011423Z
URL:https://business.lavernechamber.org/events/details/chamber-night-at-angel-stadium-1363
END:VEVENT

END:VCALENDAR
