BEGIN:VCALENDAR
VERSION:2.0
PRODID:-//ChamberMaster//Event Calendar 2.0//EN
METHOD:PUBLISH
X-PUBLISHED-TTL:P3D
REFRESH-INTERVAL:P3D
CALSCALE:GREGORIAN
BEGIN:VEVENT
DTSTART:20190414T010000Z
DTEND:20190414T060000Z
X-MICROSOFT-CDO-ALLDAYEVENT:FALSE
SUMMARY:Champions of the Heart Gala benefiting McKinley Children's Center
DESCRIPTION:Join us on April 13\, 2019 from 6 PM - 11 PM at the DoubleTree by Hilton Pomona for our annual Champions of the Heart Gala: a night of honoring champions in our local communities! We will be honoring Edison International\, St. Louise de Marillac Church\, Senator Anthony Portantino\, and Garry Creel\, Director of Child Welfare and Attendance at Azusa Unified School District\, for their outstanding dedication and support to McKinley and the communities they serve. \n\n\n\nWe're proud to announce our 2019 Champions! Thank you for all that you do in our communities\, Edison International\, St Louise De Marrilac Catholic Church\, Anthony Portantino\, and Azusa Unified School District's Garry Creel!
X-ALT-DESC;FMTTYPE=text/html:<span style="color: rgb(255\, 255\, 255)\; font-family: Georgia\, serif\; font-size: 18px\; background-color: rgb(0\, 0\, 0)\;"><span style="display: none\;">&nbsp\;</span></span>Join us on April 13\, 2019 from 6 PM - 11 PM at the DoubleTree by Hilton Pomona for our annual Champions of the Heart Gala: a night of honoring champions in our local communities! We will be honoring Edison International\, St. Louise de Marillac Church\, Senator Anthony Portantino\, and Garry Creel\, Director of Child Welfare and Attendance at Azusa Unified School District\, for their outstanding dedication and support to McKinley and the communities they serve.&nbsp\;<br />\n<br />\n<span style="color: rgb(29\, 33\, 41)\; font-family: Helvetica\, Arial\, sans-serif\; font-size: 14px\;">We&#39\;re proud to announce our 2019 Champions! Thank you for all that you do in our communities\, Edison International\, St Louise De Marrilac Catholic Church\, Anthony Portantino\, and Azusa Unified School District&#39\;s Garry Creel!</span><br />\n<span style="color: rgb(255\, 255\, 255)\; font-family: Georgia\, serif\; font-size: 18px\; background-color: rgb(0\, 0\, 0)\;"><span style="display: none\;">&nbsp\;</span></span>
LOCATION:Double Tree by Hilton Pomona
UID:e.1883.1321
SEQUENCE:3
DTSTAMP:20260421T235336Z
URL:https://business.lavernechamber.org/events/details/champions-of-the-heart-gala-benefiting-mckinley-children-s-center-1321
END:VEVENT

END:VCALENDAR
