BEGIN:VCALENDAR
VERSION:2.0
PRODID:-//ChamberMaster//Event Calendar 2.0//EN
METHOD:PUBLISH
X-PUBLISHED-TTL:P3D
REFRESH-INTERVAL:P3D
CALSCALE:GREGORIAN
BEGIN:VEVENT
DTSTART:20180929T003000Z
DTEND:20180929T030000Z
X-MICROSOFT-CDO-ALLDAYEVENT:FALSE
SUMMARY:Chili's Tip-a-Hero for St. Jude Children's Research Hospital
DESCRIPTION:Come eat with us and chat it up with La Verne Fire Department and La Verne Police Department in an effort to raise funds for St. Jude Children's Research Hospital. We will be selling raffle tickets for a drawing that will take place on 10/4/18 at halftime of Thursday Night Football.\n\nPrizes include:\n\n-Tickets to the Rams vs. 49ers on 12/30\n\n-Dodger tickets for next season\n\n-Concert tickets from Alt 98.7\n\n-Quakes gift bag with tickets to a game next season\n\n-Brewery tastings and tours to local breweries\n\n-Gift cards to other local restaurants including House of Wings\, Lordsberg Taphouse\, and Pizza Barn\n\nand more!
X-ALT-DESC;FMTTYPE=text/html:Come eat with us and chat it up with La Verne Fire Department and La Verne Police Department in an effort to raise funds for St. Jude Children&#39\;s Research Hospital. We will be selling raffle tickets for a drawing that will take place on 10/4/18 at halftime of Thursday Night Football.<br />\nPrizes include:<br />\n-Tickets to the Rams vs. 49ers on 12/30<br />\n-Dodger tickets for next season<br />\n-Concert tickets from Alt 98.7<br />\n-Quakes gift bag with tickets to a game next season<br />\n-Brewery tastings and tours to local breweries<br />\n-Gift cards to other local restaurants including House of Wings\, Lordsberg Taphouse\, and Pizza Barn<br />\nand more!
LOCATION:Chili's Grill & Bar 1912 Foothill Blvd La Verne\, CA
UID:e.1883.1217
SEQUENCE:3
DTSTAMP:20260422T104843Z
URL:https://business.lavernechamber.org/events/details/chili-s-tip-a-hero-for-st-jude-children-s-research-hospital-1217
END:VEVENT

END:VCALENDAR
