BEGIN:VCALENDAR
VERSION:2.0
PRODID:-//ChamberMaster//Event Calendar 2.0//EN
METHOD:PUBLISH
X-PUBLISHED-TTL:P3D
REFRESH-INTERVAL:P3D
CALSCALE:GREGORIAN
BEGIN:VEVENT
DTSTART:20180505T170000Z
DTEND:20180506T050000Z
X-MICROSOFT-CDO-ALLDAYEVENT:FALSE
SUMMARY:Cinco de Mayo at Mi Ranchito
DESCRIPTION:Mi Ranchito La Verne is celebrating Cinco de Mayo with some awesome drink specials\, including $4 House Margaritas\, $1 off pints of Mexican drafts and $12.50 Coronita buckets. Celebrate with us!
X-ALT-DESC;FMTTYPE=text/html:<span style="color: rgb(75\, 79\, 86)\; font-family: Helvetica\, Arial\, sans-serif\; font-size: 14px\;">Mi Ranchito La Verne is celebrating Cinco de Mayo with some awesome drink specials\, including $4 House Margaritas\, $1 off pints of Mexican drafts and $12.50 Coronita buckets. Celebrate with us!</span>
LOCATION:Mi Ranchito 1437 Foothill Blvd.
UID:e.1883.645
SEQUENCE:3
DTSTAMP:20260422T162446Z
URL:https://business.lavernechamber.org/events/details/cinco-de-mayo-at-mi-ranchito-645
END:VEVENT

END:VCALENDAR
