BEGIN:VCALENDAR
VERSION:2.0
PRODID:-//ChamberMaster//Event Calendar 2.0//EN
METHOD:PUBLISH
X-PUBLISHED-TTL:P3D
REFRESH-INTERVAL:P3D
CALSCALE:GREGORIAN
BEGIN:VEVENT
DTSTART:20180102T023000Z
DTEND:20180102T050000Z
X-MICROSOFT-CDO-ALLDAYEVENT:FALSE
SUMMARY:City Council Meeting
DESCRIPTION:City Council Meeting
X-ALT-DESC;FMTTYPE=text/html:City Council Meeting
LOCATION:Council Chamber at City Hall 3660 D Street
UID:e.1883.449
SEQUENCE:3
DTSTAMP:20260422T230004Z
URL:https://business.lavernechamber.org/events/details/city-council-meeting-01-01-2018-449
END:VEVENT

END:VCALENDAR
