BEGIN:VCALENDAR
VERSION:2.0
PRODID:-//ChamberMaster//Event Calendar 2.0//EN
METHOD:PUBLISH
X-PUBLISHED-TTL:P3D
REFRESH-INTERVAL:P3D
CALSCALE:GREGORIAN
BEGIN:VEVENT
DTSTART:20180619T013000Z
DTEND:20180619T040000Z
X-MICROSOFT-CDO-ALLDAYEVENT:FALSE
SUMMARY:City Council Meeting
DESCRIPTION:City Council Meeting
X-ALT-DESC;FMTTYPE=text/html:City Council Meeting
LOCATION:Council Chamber at City Hall 3660 D Street
UID:e.1883.441
SEQUENCE:3
DTSTAMP:20260422T151830Z
URL:https://business.lavernechamber.org/events/details/city-council-meeting-06-18-2018-441
END:VEVENT

END:VCALENDAR
