BEGIN:VCALENDAR
VERSION:2.0
PRODID:-//ChamberMaster//Event Calendar 2.0//EN
METHOD:PUBLISH
X-PUBLISHED-TTL:P3D
REFRESH-INTERVAL:P3D
CALSCALE:GREGORIAN
BEGIN:VEVENT
DTSTART:20181218T023000Z
DTEND:20181218T050000Z
X-MICROSOFT-CDO-ALLDAYEVENT:FALSE
SUMMARY:City Council Meeting
DESCRIPTION:City Council Meeting
X-ALT-DESC;FMTTYPE=text/html:City Council Meeting
LOCATION:Council Chamber at City Hall 3660 D Street
UID:e.1883.447
SEQUENCE:3
DTSTAMP:20260422T060029Z
URL:https://business.lavernechamber.org/events/details/city-council-meeting-12-17-2018-447
END:VEVENT

END:VCALENDAR
