BEGIN:VCALENDAR
VERSION:2.0
PRODID:-//ChamberMaster//Event Calendar 2.0//EN
METHOD:PUBLISH
X-PUBLISHED-TTL:P3D
REFRESH-INTERVAL:P3D
CALSCALE:GREGORIAN
BEGIN:VEVENT
DTSTART:20190304T230000Z
DTEND:20190305T010000Z
X-MICROSOFT-CDO-ALLDAYEVENT:FALSE
SUMMARY:Coffee & Cocoa with a Cop
DESCRIPTION:Bring the family and join us for Coffee & Cocoa With A Cop! Get to know the Officers serving YOUR community. No speeches\, or agendas\, just a cup of coffee (or cocoa) and a conversation. We hope to see you there!
X-ALT-DESC;FMTTYPE=text/html:<span style="color: rgb(29\, 33\, 41)\; font-family: Helvetica\, Arial\, sans-serif\; font-size: 14px\; white-space: pre-wrap\;">Bring the family and join us for Coffee &amp\; Cocoa With A Cop! Get to know the Officers serving YOUR community. No speeches\, or agendas\, just a cup of coffee (or cocoa) and a conversation. We hope to see you there!</span>
LOCATION:Cactus Coffee 2232 D Street
UID:e.1883.1304
SEQUENCE:3
DTSTAMP:20260422T011727Z
URL:https://business.lavernechamber.org/events/details/coffee-cocoa-with-a-cop-1304
END:VEVENT

END:VCALENDAR
