BEGIN:VCALENDAR
VERSION:2.0
PRODID:-//ChamberMaster//Event Calendar 2.0//EN
METHOD:PUBLISH
X-PUBLISHED-TTL:P3D
REFRESH-INTERVAL:P3D
CALSCALE:GREGORIAN
BEGIN:VEVENT
DTSTART:20180405T150000Z
DTEND:20180405T163000Z
X-MICROSOFT-CDO-ALLDAYEVENT:FALSE
SUMMARY:Coffee With A Cop
DESCRIPTION:Join your neighbors and police officers for a cup of coffee and a conversation!
X-ALT-DESC;FMTTYPE=text/html:<span style="color: rgb(75\, 79\, 86)\; font-family: Helvetica\, Arial\, sans-serif\; font-size: 14px\;">Join your neighbors and police officers for a cup of coffee and a conversation!</span>
LOCATION:Starbucks 2145 Foothill Blvd\, #C
UID:e.1883.621
SEQUENCE:3
DTSTAMP:20260422T180411Z
URL:https://business.lavernechamber.org/events/details/coffee-with-a-cop-621
END:VEVENT

END:VCALENDAR
