BEGIN:VCALENDAR
VERSION:2.0
PRODID:-//ChamberMaster//Event Calendar 2.0//EN
METHOD:PUBLISH
X-PUBLISHED-TTL:P3D
REFRESH-INTERVAL:P3D
CALSCALE:GREGORIAN
BEGIN:VEVENT
DTSTART:20190420T180000Z
DTEND:20190420T210000Z
X-MICROSOFT-CDO-ALLDAYEVENT:FALSE
SUMMARY:Community Easter Egg Hunt
DESCRIPTION:The Commons at La Verne shopping center is excited to announce its La Verne Community Easter Egg Hunt on Saturday\, April 20th.   This event is open to the public and free for participation of children of all ages.   There will be an Easter Egg Hunt with candy and prizes\, and a special appearance by the Easter Bunny himself! Finders of one of the golden eggs will receive a special prize!  Additionally\, there will be sidewalk sales by participating Shopping Center businesses.
X-ALT-DESC;FMTTYPE=text/html:<span style="font-family:tahoma\,sans-serif\;"><span style="font-size:12.0pt\;">The Commons at La Verne shopping center is excited to announce its La Verne Community Easter Egg Hunt on Saturday\, April 20<sup>th</sup>.&nbsp\;&nbsp\; This event is open to the public and free for participation of children of all ages.&nbsp\;&nbsp\; There will be an Easter Egg Hunt with candy and prizes\, and a special appearance by the Easter Bunny himself! Finders of one of the golden eggs will receive a special prize! &nbsp\;Additionally\, there will be sidewalk sales by participating Shopping Center businesses.&nbsp\; </span></span>
LOCATION:Commons at La Verne Shopping Center located at 1600 Foothill Boulevard. The hunt will take place in the parking lot on the West side of Nature's Way and across from Wahfles.
UID:e.1883.1305
SEQUENCE:3
DTSTAMP:20260421T234717Z
URL:https://business.lavernechamber.org/events/details/community-easter-egg-hunt-1305
END:VEVENT

END:VCALENDAR
