BEGIN:VCALENDAR
VERSION:2.0
PRODID:-//ChamberMaster//Event Calendar 2.0//EN
METHOD:PUBLISH
X-PUBLISHED-TTL:P3D
REFRESH-INTERVAL:P3D
CALSCALE:GREGORIAN
BEGIN:VEVENT
DTSTART:20190928T070000Z
DTEND:20190929T000000Z
X-MICROSOFT-CDO-ALLDAYEVENT:FALSE
SUMMARY:Community End of Summer Fest 2019
DESCRIPTION:The Commons at La Verne shopping center is excited to announce an End of Summer Festival 2019 on Saturday\, September 28th.   This event is open to the public and free for participation of children of all ages.   A section of the parking lot will be closed off for an array of carnival games\, live DJ and many more fun activities.   Additionally\, there will be sidewalk sales for participating Shopping Center businesses.
X-ALT-DESC;FMTTYPE=text/html:<span style="font-family:tahoma\,sans-serif\;"><span style="font-size:12.0pt\;">The Commons at La Verne shopping center is excited to announce an End of Summer Festival 2019 on Saturday\, September 28<sup>th</sup>.&nbsp\;&nbsp\; This event is open to the public and free for participation of children of all ages.&nbsp\;&nbsp\; A section of the parking lot will be closed off for an array of carnival games\, live DJ and many more fun activities.&nbsp\;&nbsp\; Additionally\, there will be sidewalk sales for participating Shopping Center businesses.&nbsp\;&nbsp\;</span></span>
LOCATION:Commons at La Verne Shopping Center
UID:e.1883.1720
SEQUENCE:3
DTSTAMP:20260421T161503Z
URL:https://business.lavernechamber.org/events/details/community-end-of-summer-fest-2019-1720
END:VEVENT

END:VCALENDAR
