BEGIN:VCALENDAR
VERSION:2.0
PRODID:-//ChamberMaster//Event Calendar 2.0//EN
METHOD:PUBLISH
X-PUBLISHED-TTL:P3D
REFRESH-INTERVAL:P3D
CALSCALE:GREGORIAN
BEGIN:VEVENT
DTSTART:20181110T170000Z
DTEND:20181110T210000Z
X-MICROSOFT-CDO-ALLDAYEVENT:FALSE
SUMMARY:Community Health & Fitness Expo
DESCRIPTION:Our mission is to provide a platform for health and fitness professionals\, practitioners\, service and product providers to inform and make the La Verne community aware of the multitude of health and fitness practices that can benefit them in all life stages\n\n\n\nVendor Registration Forms\n\n\n\nExhibitors:\n\nSan Dimas Community Hospital\n\nPomona Valley Health Center\n\nHillcrest Health Services\n\nHearUSA\n\nLa Verne Medical Group\n\nLa Verne Physical Therapy\n\nFoothill Family Chiropractic\n\nLife Performance Enhancement\n\nEquilibrium Fitness\n\nLa Verne Dental Group\n\nSlimmer Solutions\n\nBarre Elements\n\nLa Verne Bycicle Coalition\n\nLa Verne Police Department\n\nYoung Living Essential Oils\n\nThe Bowl La Verne\n\nOntario Reign
X-ALT-DESC;FMTTYPE=text/html:<span style="font-family:calibri\,sans-serif\;"><span style="font-size:11.0pt\;">Our mission is to provide a platform for health and fitness professionals\, practitioners\, service and product providers to inform and make the La Verne community aware of the multitude of health and fitness practices that can benefit them in all life stages</span></span><br />\n<br />\n<a href="http://www.lavernechamber.org/wp-content/uploads/2018/10/Health-Fitness-Vendor-Registration.pdf" target="_blank">Vendor Registration Forms</a><br />\n<br />\nExhibitors:<br />\nSan Dimas Community Hospital<br />\nPomona Valley Health Center<br />\nHillcrest Health Services<br />\nHearUSA<br />\nLa Verne Medical Group<br />\nLa Verne Physical Therapy<br />\nFoothill Family Chiropractic<br />\nLife Performance Enhancement<br />\nEquilibrium Fitness<br />\nLa Verne Dental Group<br />\nSlimmer Solutions<br />\nBarre Elements<br />\nLa Verne Bycicle Coalition<br />\nLa Verne Police Department<br />\nYoung Living Essential Oils<br />\nThe Bowl La Verne<br />\nOntario Reign<br />\n<br />\n&nbsp\;
LOCATION:Lutheran High School 3960 Fruit Street
UID:e.1883.1120
SEQUENCE:3
DTSTAMP:20260422T093219Z
URL:https://business.lavernechamber.org/events/details/community-health-fitness-expo-1120
END:VEVENT

END:VCALENDAR
