BEGIN:VCALENDAR
VERSION:2.0
PRODID:-//ChamberMaster//Event Calendar 2.0//EN
METHOD:PUBLISH
X-PUBLISHED-TTL:P3D
REFRESH-INTERVAL:P3D
CALSCALE:GREGORIAN
BEGIN:VEVENT
DTSTART:20140426T150000Z
DTEND:20140426T190000Z
X-MICROSOFT-CDO-ALLDAYEVENT:FALSE
SUMMARY:Community Yard Sale
DESCRIPTION:Community Yard Sale - open to everyone.    Admission and parking are free
X-ALT-DESC;FMTTYPE=text/html:Community Yard Sale - open to everyone.&nbsp\;&nbsp\;&nbsp\; Admission and parking are free
LOCATION:Bonita High School Parking Lot - D Street just south of Foothill
UID:e.1883.38
SEQUENCE:3
DTSTAMP:20260425T223434Z
URL:https://business.lavernechamber.org/events/details/community-yard-sale-04-26-2014-38
END:VEVENT

END:VCALENDAR
