BEGIN:VCALENDAR
VERSION:2.0
PRODID:-//ChamberMaster//Event Calendar 2.0//EN
METHOD:PUBLISH
X-PUBLISHED-TTL:P3D
REFRESH-INTERVAL:P3D
CALSCALE:GREGORIAN
BEGIN:VEVENT
DTSTART:20190715T013000Z
DTEND:20190715T030000Z
X-MICROSOFT-CDO-ALLDAYEVENT:FALSE
SUMMARY:Concerts in the Park
DESCRIPTION:The La Verne Heritage Foundation and the City of La Verne have jointly hosted these great free Summer Concerts for over 20 years at the beautiful historic Heritage Park. Mark your calendars to enjoy the evening with your family and friends. Come with your own blankets and/or lawn chairs to listen to the wonderful music while relaxing in the warm\, balmy\, summer nights.\n\nBring you appetites and support our food truck vendors. Great raffle prizes are also a part of the fun. \n\n\n\nFeaturing Hard Day's Night (Beatles Tribute Band)
X-ALT-DESC;FMTTYPE=text/html:The La Verne Heritage Foundation and the City of La Verne have jointly hosted these great free Summer Concerts for over 20 years at the beautiful historic Heritage Park. Mark your calendars to enjoy the evening with your family and friends. Come with your own blankets and/or lawn chairs to listen to the wonderful music while relaxing in the warm\, balmy\, summer nights.<br />\n<span style="font-family:calibri\,sans-serif\;"><span style="font-size:11.0pt\;">Bring you appetites and support our food truck vendors. Great raffle prizes are also a part of the fun.&nbsp\;</span></span><br />\n<br />\nFeaturing&nbsp\;<span style="font-family:calibri\,sans-serif\;"><span style="font-size:11.0pt\;">Hard Day&#39\;s Night (Beatles Tribute Band)</span></span>
LOCATION:Heritage Park East of Wheeler and North of Baseline
UID:e.1883.1428
SEQUENCE:3
DTSTAMP:20260421T204555Z
URL:https://business.lavernechamber.org/events/details/concerts-in-the-park-1428
END:VEVENT

END:VCALENDAR
