BEGIN:VCALENDAR
VERSION:2.0
PRODID:-//ChamberMaster//Event Calendar 2.0//EN
METHOD:PUBLISH
X-PUBLISHED-TTL:P3D
REFRESH-INTERVAL:P3D
CALSCALE:GREGORIAN
BEGIN:VEVENT
DTSTART:20181027T150000Z
DTEND:20181027T190000Z
X-MICROSOFT-CDO-ALLDAYEVENT:FALSE
SUMMARY:Congresswoman Grace Napolitano Presents: Military Academy Day
DESCRIPTION:Military Academy Day   an opportunity for students\, educators\, and parents to learn about educational opportunities at U.S. Military Academies\n\n\n\nRep. Grace F. Napolitano will host a Military Academy Day at West Covina Senior Center\, October 27\, to give students\, teachers\, and parents a chance to learn about the educational opportunities offered by our U.S. military academies. Representatives from the major academies will be available to explain and answer questions\, and Rep. Napolitano's staff will be available to outline the nomination and application process for students who hope to enter our nation's most prestigious military academies.\nSpeakers from:\n\nU.S. Military Academy (West Point)\n\nU.S. Naval Academy (Annapolis)\n\n\n\nU.S. Air Force Academy\n\nU.S. Merchant Marine Academy\n\nU.S. Coast Guard Academy
X-ALT-DESC;FMTTYPE=text/html:<span style="color: rgb(0\, 0\, 0)\; font-family: &quot\;Century Gothic&quot\;\, &quot\;Helvetica Neue&quot\;\, Helvetica\, Arial\, sans-serif\; font-size: 16px\;">&nbsp\;Military Academy Day &ndash\; an opportunity for students\, educators\, and parents to learn about educational opportunities at U.S. Military Academies<br />\n<br />\nRep. Grace F. Napolitano will host a Military Academy Day at West Covina Senior Center\, October 27\, to give students\, teachers\, and parents a chance to learn about the educational opportunities offered by our U.S. military academies. Representatives from the major academies will be available to explain and answer questions\, and Rep. Napolitano&rsquo\;s staff will be available to outline the nomination and application process for students who hope to enter our nation&rsquo\;s most prestigious military academies.</span>\n<p style="box-sizing: border-box\; margin: 0px 0px 10px\; color: rgb(0\, 0\, 0)\; font-family: &quot\;Century Gothic&quot\;\, &quot\;Helvetica Neue&quot\;\, Helvetica\, Arial\, sans-serif\; font-size: 16px\;"><em style="box-sizing: border-box\;">Speakers from:</em></p>\n\n<p style="box-sizing: border-box\; margin: 0px 0px 10px\; color: rgb(0\, 0\, 0)\; font-family: &quot\;Century Gothic&quot\;\, &quot\;Helvetica Neue&quot\;\, Helvetica\, Arial\, sans-serif\; font-size: 16px\;">U.S. Military Academy (West Point)</p>\n\n<p style="box-sizing: border-box\; margin: 0px 0px 10px\; color: rgb(0\, 0\, 0)\; font-family: &quot\;Century Gothic&quot\;\, &quot\;Helvetica Neue&quot\;\, Helvetica\, Arial\, sans-serif\; font-size: 16px\;">U.S. Naval Academy (Annapolis)<br style="box-sizing: border-box\;" />\n<br style="box-sizing: border-box\;" />\nU.S. Air Force Academy</p>\n\n<p style="box-sizing: border-box\; margin: 0px 0px 10px\; color: rgb(0\, 0\, 0)\; font-family: &quot\;Century Gothic&quot\;\, &quot\;Helvetica Neue&quot\;\, Helvetica\, Arial\, sans-serif\; font-size: 16px\;">U.S. Merchant Marine Academy</p>\n\n<p style="box-sizing: border-box\; margin: 0px 0px 10px\; color: rgb(0\, 0\, 0)\; font-family: &quot\;Century Gothic&quot\;\, &quot\;Helvetica Neue&quot\;\, Helvetica\, Arial\, sans-serif\; font-size: 16px\;">U.S. Coast Guard Academy</p>\n<br />\n&nbsp\;
LOCATION:West Covina Senior Citizen Center 2501 E Cortez St. West Covina\, CA 91791
UID:e.1883.1204
SEQUENCE:3
DTSTAMP:20260422T091049Z
URL:https://business.lavernechamber.org/events/details/congresswoman-grace-napolitano-presents-military-academy-day-1204
END:VEVENT

END:VCALENDAR
