BEGIN:VCALENDAR
VERSION:2.0
PRODID:-//ChamberMaster//Event Calendar 2.0//EN
METHOD:PUBLISH
X-PUBLISHED-TTL:P3D
REFRESH-INTERVAL:P3D
CALSCALE:GREGORIAN
BEGIN:VEVENT
DTSTART:20140305T194500Z
DTEND:20140305T210000Z
X-MICROSOFT-CDO-ALLDAYEVENT:FALSE
SUMMARY:Connection Luncheon
DESCRIPTION:Networking luncheon.
X-ALT-DESC;FMTTYPE=text/html:Networking luncheon.&nbsp\;
LOCATION:Sierra La Verne Country Club\, 6300 Country Club Drive\, La Verne
UID:e.1883.26
SEQUENCE:3
DTSTAMP:20260426T013432Z
URL:https://business.lavernechamber.org/events/details/connection-luncheon-03-05-2014-26
END:VEVENT

END:VCALENDAR
