BEGIN:VCALENDAR
VERSION:2.0
PRODID:-//ChamberMaster//Event Calendar 2.0//EN
METHOD:PUBLISH
X-PUBLISHED-TTL:P3D
REFRESH-INTERVAL:P3D
CALSCALE:GREGORIAN
BEGIN:VEVENT
DTSTART:20140806T184500Z
DTEND:20140806T200000Z
X-MICROSOFT-CDO-ALLDAYEVENT:FALSE
SUMMARY:Connection Luncheon
DESCRIPTION:Business Card Bingo!! Bring Your Business Cards
X-ALT-DESC;FMTTYPE=text/html:Business Card Bingo!! Bring Your Business Cards
LOCATION:Sierra La Verne Country Club\, 6300 Country Club Drive\, La Verne
UID:e.1883.31
SEQUENCE:3
DTSTAMP:20260425T160156Z
URL:https://business.lavernechamber.org/events/details/connection-luncheon-08-06-2014-31
END:VEVENT

END:VCALENDAR
