BEGIN:VCALENDAR
VERSION:2.0
PRODID:-//ChamberMaster//Event Calendar 2.0//EN
METHOD:PUBLISH
X-PUBLISHED-TTL:P3D
REFRESH-INTERVAL:P3D
CALSCALE:GREGORIAN
BEGIN:VEVENT
DTSTART:20140903T184500Z
DTEND:20140903T200000Z
X-MICROSOFT-CDO-ALLDAYEVENT:FALSE
SUMMARY:Connection Luncheon
DESCRIPTION:Networking luncheon.
X-ALT-DESC;FMTTYPE=text/html:Networking luncheon.
LOCATION:Sierra La Verne Country Club\, 6300 Country Club Drive\, La Verne
UID:e.1883.32
SEQUENCE:3
DTSTAMP:20260425T143449Z
URL:https://business.lavernechamber.org/events/details/connection-luncheon-09-03-2014-32
END:VEVENT

END:VCALENDAR
