BEGIN:VCALENDAR
VERSION:2.0
PRODID:-//ChamberMaster//Event Calendar 2.0//EN
METHOD:PUBLISH
X-PUBLISHED-TTL:P3D
REFRESH-INTERVAL:P3D
CALSCALE:GREGORIAN
BEGIN:VEVENT
DTSTART:20141001T184500Z
DTEND:20141001T200000Z
X-MICROSOFT-CDO-ALLDAYEVENT:FALSE
SUMMARY:Connection Luncheon
DESCRIPTION:Small Business Development Center  Sean Snyder to speak
X-ALT-DESC;FMTTYPE=text/html:Small Business Development Center&nbsp\; Sean Snyder to speak
LOCATION:Sierra La Verne Country Club\, 6300 Country Club Drive\, La Verne
UID:e.1883.33
SEQUENCE:3
DTSTAMP:20260425T125903Z
URL:https://business.lavernechamber.org/events/details/connection-luncheon-10-01-2014-33
END:VEVENT

END:VCALENDAR
