BEGIN:VCALENDAR
VERSION:2.0
PRODID:-//ChamberMaster//Event Calendar 2.0//EN
METHOD:PUBLISH
X-PUBLISHED-TTL:P3D
REFRESH-INTERVAL:P3D
CALSCALE:GREGORIAN
BEGIN:VEVENT
DTSTART:20141105T194500Z
DTEND:20141105T210000Z
X-MICROSOFT-CDO-ALLDAYEVENT:FALSE
SUMMARY:Connection Luncheon
DESCRIPTION:Networking luncheon.  The host of our luncheon this month is Luis Cetina from Metropolitian Water.
X-ALT-DESC;FMTTYPE=text/html:Networking luncheon.&nbsp\; The host of our luncheon this month is Luis Cetina from Metropolitian Water.
LOCATION:Sierra La Verne Country Club\, 6300 Country Club Drive\, La Verne
UID:e.1883.34
SEQUENCE:3
DTSTAMP:20260425T113054Z
URL:https://business.lavernechamber.org/events/details/connection-luncheon-11-05-2014-34
END:VEVENT

END:VCALENDAR
