BEGIN:VCALENDAR
VERSION:2.0
PRODID:-//ChamberMaster//Event Calendar 2.0//EN
METHOD:PUBLISH
X-PUBLISHED-TTL:P3D
REFRESH-INTERVAL:P3D
CALSCALE:GREGORIAN
BEGIN:VEVENT
DTSTART:20150401T184500Z
DTEND:20150401T200000Z
X-MICROSOFT-CDO-ALLDAYEVENT:FALSE
SUMMARY:Connections Luncheon
DESCRIPTION:Connection Networking Luncheon  Atlas Spinal Care and Foothill Family Chiropractic will be our hosts
X-ALT-DESC;FMTTYPE=text/html:Connection Networking Luncheon&nbsp\; Atlas Spinal Care and Foothill Family Chiropractic will be our hosts
LOCATION:Sierra La Verne Country Club 6300 Country Club Drive\, La Verne
UID:e.1883.89
SEQUENCE:3
DTSTAMP:20260425T034809Z
URL:https://business.lavernechamber.org/events/details/connections-luncheon-04-01-2015-89
END:VEVENT

END:VCALENDAR
