BEGIN:VCALENDAR
VERSION:2.0
PRODID:-//ChamberMaster//Event Calendar 2.0//EN
METHOD:PUBLISH
X-PUBLISHED-TTL:P3D
REFRESH-INTERVAL:P3D
CALSCALE:GREGORIAN
BEGIN:VEVENT
DTSTART:20180317T210000Z
DTEND:20180318T000000Z
X-MICROSOFT-CDO-ALLDAYEVENT:FALSE
SUMMARY:Conundrum Salon & Spa Anniversary Celebration
DESCRIPTION:Join the Conundrum Salon & Spa Staff to celebrate our first anniversary on St. Patrick's Day! We will have drinks and raffle prizes too\, so bring your luck with you!
X-ALT-DESC;FMTTYPE=text/html:<span style="color: rgb(75\, 79\, 86)\; font-family: Helvetica\, Arial\, sans-serif\; font-size: 14px\;">Join the Conundrum Salon &amp\; Spa Staff to celebrate our first anniversary on St. Patrick&#39\;s Day! We will have drinks and raffle prizes too\, so bring your luck with you!</span>
LOCATION:Conundrum Salon & Spa 1431 Foothill Blvd.
UID:e.1883.555
SEQUENCE:3
DTSTAMP:20260422T212302Z
URL:https://business.lavernechamber.org/events/details/conundrum-salon-spa-anniversary-celebration-555
END:VEVENT

END:VCALENDAR
