BEGIN:VCALENDAR
VERSION:2.0
PRODID:-//ChamberMaster//Event Calendar 2.0//EN
METHOD:PUBLISH
X-PUBLISHED-TTL:P3D
REFRESH-INTERVAL:P3D
CALSCALE:GREGORIAN
BEGIN:VEVENT
DTSTART:20150404T170000Z
DTEND:20150404T220000Z
X-MICROSOFT-CDO-ALLDAYEVENT:FALSE
SUMMARY:Cool Cruise
DESCRIPTION:Cool Cruise
X-ALT-DESC;FMTTYPE=text/html:Cool Cruise
LOCATION:
UID:e.1883.83
SEQUENCE:3
DTSTAMP:20260425T033504Z
URL:https://business.lavernechamber.org/events/details/cool-cruise-04-04-2015-83
END:VEVENT

END:VCALENDAR
