BEGIN:VCALENDAR
VERSION:2.0
PRODID:-//ChamberMaster//Event Calendar 2.0//EN
METHOD:PUBLISH
X-PUBLISHED-TTL:P3D
REFRESH-INTERVAL:P3D
CALSCALE:GREGORIAN
BEGIN:VEVENT
DTSTART:20190420T170000Z
DTEND:20190420T230000Z
X-MICROSOFT-CDO-ALLDAYEVENT:FALSE
SUMMARY:Cool Cruise Car Show
DESCRIPTION:The always popular Cool Cruise Car Show kicks of the spring in Old Town La Verne with classic cars and classic rock music filling the streets of Old Town La Verne. This is always the biggest event every year in Old Town. Car enthusiasts  young and old alike always have a great time at this event. \n\nThis year benefits Orange County Food Shelter\nBRING A CAN OF FOOD\n\nLet's Help Those That Are Without Food!
X-ALT-DESC;FMTTYPE=text/html:The always popular Cool Cruise Car Show kicks of the spring in Old Town La Verne with classic cars and classic rock music filling the streets of Old Town La Verne. This is always the biggest event every year in Old Town. Car enthusiasts&nbsp\; young and old alike always have a great time at this event.&nbsp\;<br />\nThis year benefits Orange County Food Shelter\n<h2 class="vc_custom_heading" style="box-sizing: border-box\; border: 0px\; font-family: Roboto\; font-size: 30px\; font-weight: 700\; margin: 0px 0px 15px\; outline: 0px\; padding: 0px\; vertical-align: baseline\; clear: both\; line-height: 1.3\; color: rgb(61\, 61\, 61)\; text-align: center\;"><span style="font-size:12px\;">BRING A CAN OF FOOD<br style="box-sizing: border-box\;" />\nLet&rsquo\;s Help Those That Are Without Food!</span></h2>\n<br />\n&nbsp\;
LOCATION:Old Town La Verne D and Third Street just south of Bonita
UID:e.1883.1332
SEQUENCE:3
DTSTAMP:20260422T011418Z
URL:https://business.lavernechamber.org/events/details/cool-cruise-car-show-1332
END:VEVENT

END:VCALENDAR
