BEGIN:VCALENDAR
VERSION:2.0
PRODID:-//ChamberMaster//Event Calendar 2.0//EN
METHOD:PUBLISH
X-PUBLISHED-TTL:P3D
REFRESH-INTERVAL:P3D
CALSCALE:GREGORIAN
BEGIN:VEVENT
DTSTART:20191019T200000Z
DTEND:20191019T230000Z
X-MICROSOFT-CDO-ALLDAYEVENT:FALSE
SUMMARY:Cornhole Tournament
DESCRIPTION:It's tournament time again. Join us at 1pm on Saturday\, October 19th for our monthly cornhole tournament. Entry is $25 for a team of two. Entry get each team member two beer tickets. Top three teams will receive prizes. Stop by and have fun. Good luck!
X-ALT-DESC;FMTTYPE=text/html:It&#39\;s tournament time again. Join us at 1pm on Saturday\, October 19th for our monthly cornhole tournament. Entry is $25 for a team of two. Entry get each team member two beer tickets. Top three teams will receive prizes. Stop by and have fun. Good luck!
LOCATION:La Verne Brewing Co.
UID:e.1883.1991
SEQUENCE:3
DTSTAMP:20260421T143950Z
URL:https://business.lavernechamber.org/events/details/cornhole-tournament-10-19-2019-1991
END:VEVENT

END:VCALENDAR
