BEGIN:VCALENDAR
VERSION:2.0
PRODID:-//ChamberMaster//Event Calendar 2.0//EN
METHOD:PUBLISH
X-PUBLISHED-TTL:P3D
REFRESH-INTERVAL:P3D
CALSCALE:GREGORIAN
BEGIN:VEVENT
DTSTART:20190622T210000Z
DTEND:20190623T010000Z
X-MICROSOFT-CDO-ALLDAYEVENT:FALSE
SUMMARY:Cornhole Tournament at La Verne Brewing
DESCRIPTION:Cornhole Tournament! $25 gets you entry to the tournament (2 players) each player gets two beers!
X-ALT-DESC;FMTTYPE=text/html:<span style="color: rgb(29\, 33\, 41)\; font-family: Helvetica\, Arial\, sans-serif\; font-size: 14px\;">Cornhole Tournament! $25 gets you entry to the tournament (2 players) each player gets two beers!</span>
LOCATION:La Verne Brewing
UID:e.1883.1467
SEQUENCE:3
DTSTAMP:20260421T221858Z
URL:https://business.lavernechamber.org/events/details/cornhole-tournament-at-la-verne-brewing-1467
END:VEVENT

END:VCALENDAR
