BEGIN:VCALENDAR
VERSION:2.0
PRODID:-//ChamberMaster//Event Calendar 2.0//EN
METHOD:PUBLISH
X-PUBLISHED-TTL:P3D
REFRESH-INTERVAL:P3D
CALSCALE:GREGORIAN
BEGIN:VEVENT
DTSTART:20170704T180000Z
DTEND:20170704T210000Z
X-MICROSOFT-CDO-ALLDAYEVENT:FALSE
SUMMARY:Country Fair
DESCRIPTION:Come out and catch the excitement as the City of La Verne celebrates Independence Day on the 4th of July with a Country Fair from 11:00 a.m. - 2:00 p.m. at Roynon Elementary School (D and 8th Street). There will be rides\, games\, crafts\, food\, and fun for kids of all ages! Purchase a wristband for adult and youth rides for $10 for unlimited rides. Individual tickets for rides will be available on July 4. Pre-sale tickets for wristbands may be purchased at the City of La Verne Community Services Office from 8:00 a.m. to 6:00 p.m.\, Monday through Thursday.
X-ALT-DESC;FMTTYPE=text/html:Come out and catch the excitement as the City of La Verne celebrates Independence Day on the 4th of July with a Country Fair from 11:00 a.m. - 2:00 p.m. at Roynon Elementary School (D and 8th Street). There will be rides\, games\, crafts\, food\, and fun for kids of all ages! Purchase a wristband for adult and youth rides for $10 for unlimited rides. Individual tickets for rides will be available on July 4. Pre-sale tickets for wristbands may be purchased at the City of La Verne Community Services Office from 8:00 a.m. to 6:00 p.m.\, Monday through Thursday.&nbsp\;
LOCATION:Roynon Elementary School 2715 E St.
UID:e.1883.161
SEQUENCE:3
DTSTAMP:20260423T093604Z
URL:https://business.lavernechamber.org/events/details/country-fair-161
END:VEVENT

END:VCALENDAR
