BEGIN:VCALENDAR
VERSION:2.0
PRODID:-//ChamberMaster//Event Calendar 2.0//EN
METHOD:PUBLISH
X-PUBLISHED-TTL:P3D
REFRESH-INTERVAL:P3D
CALSCALE:GREGORIAN
BEGIN:VEVENT
DTSTART:20171125T170000Z
DTEND:20171125T230000Z
X-MICROSOFT-CDO-ALLDAYEVENT:FALSE
SUMMARY:Cruisin' La Verne Holiday Car Show & Spark of Love Toy Drive
DESCRIPTION:The event includes the community's participation in the "Spark of Love" Toy Drive\, which benefits local children for the holidays. Attendees are encouraged to donate a new\, unwrapped toy\, either at the event or to the La Verne Fire Department
X-ALT-DESC;FMTTYPE=text/html:<span style="color: rgb(69\, 44\, 3)\; font-family: Arimo\, Arial\, &quot\;Arial Unicode MS&quot\;\, Helvetica\, sans-serif\; font-size: 11px\; background-color: rgb(254\, 242\, 221)\;">The event includes the community&rsquo\;s participation in the &ldquo\;Spark&nbsp\;of Love&rdquo\; Toy Drive\, which benefits local children for the holidays. Attendees are encouraged to donate a new\,&nbsp\;unwrapped toy\, either at the event or to the La Verne Fire Department</span>
LOCATION:Old Town La Verne\, "D" and Third Streets\, south of Bonita Avenue
UID:e.1883.423
SEQUENCE:3
DTSTAMP:20260423T020337Z
URL:https://business.lavernechamber.org/events/details/cruisin-la-verne-holiday-car-show-spark-of-love-toy-drive-423
END:VEVENT

END:VCALENDAR
