BEGIN:VCALENDAR
VERSION:2.0
PRODID:-//ChamberMaster//Event Calendar 2.0//EN
METHOD:PUBLISH
X-PUBLISHED-TTL:P3D
REFRESH-INTERVAL:P3D
CALSCALE:GREGORIAN
BEGIN:VEVENT
DTSTART:20191210T030000Z
DTEND:20191210T040000Z
X-MICROSOFT-CDO-ALLDAYEVENT:FALSE
SUMMARY:Damien's 7th Annual Christmas Tree Lighting Ceremony
DESCRIPTION:You are invited to Damien's Annual Christmas Tree Lighting Ceremony on Monday\, December 9th\, 2019\, at 7:00 p.m. in the senior quad. This event is open to the public and free to attend!\n\nFestivities will include:\n\nA visit from Santa! Children\, bring your letters for Santa!\n\nBand & Choral music performances by Damien\, St\, Lucy's and Pomona Catholic students.\n\nCocoa & treats for sale - The Senior Class will offer hot cocoa\, pizza\, & other items.\n\nWe hope you will join us in the Damien Quad at 7:00 p.m. for this beloved community tradition!
X-ALT-DESC;FMTTYPE=text/html:<p>You are invited to Damien&#39\;s Annual Christmas Tree Lighting Ceremony on Monday\, December 9th\, 2019\, at 7:00 p.m. in the senior quad. This event is open to the public and free to attend!</p>\n\n<p><strong>Festivities will include:</strong></p>\n\n<p>A visit from Santa! Children\, bring your letters for Santa!</p>\n\n<p>Band &amp\; Choral music performances by Damien\, St\, Lucy&#39\;s and Pomona Catholic students.</p>\n\n<p>Cocoa &amp\; treats for sale - The Senior Class will offer hot cocoa\, pizza\, &amp\; other items.</p>\n\n<p>We hope you will join us in the Damien Quad at 7:00 p.m. for this beloved community tradition!</p>\n
LOCATION:Damien High School Senior Quad
UID:e.1883.2080
SEQUENCE:3
DTSTAMP:20260421T161508Z
URL:https://business.lavernechamber.org/events/details/damien-s-7th-annual-christmas-tree-lighting-ceremony-2080
END:VEVENT

END:VCALENDAR
