BEGIN:VCALENDAR
VERSION:2.0
PRODID:-//ChamberMaster//Event Calendar 2.0//EN
METHOD:PUBLISH
X-PUBLISHED-TTL:P3D
REFRESH-INTERVAL:P3D
CALSCALE:GREGORIAN
BEGIN:VEVENT
DTSTART:20171028T170000Z
DTEND:20171028T210000Z
X-MICROSOFT-CDO-ALLDAYEVENT:FALSE
SUMMARY:DEA Drug Takeback
DESCRIPTION:The La Verne Police Department will be participating in the Drug Enforcement Administration's National Prescription Drug Take Back Day on Saturday\, October 28th\, 2017 from 10am to 2pm at the Public Safety Building located at 2061 Third Street. Turn in your unused or expired medications for safe disposal. There is no cost to you and you may remain anonymous. There are no questions asked. \n\n*Pet medications are accepted. \n\n**Needles (sharps) are NOT accepted.
X-ALT-DESC;FMTTYPE=text/html:<span style="color: rgb(75\, 79\, 86)\; font-family: Helvetica\, Arial\, sans-serif\; font-size: 14px\;">The La Verne Police Department will be participating in the Drug Enforcement Administration&#39\;s National Prescription Drug Take Back Day on Saturday\, October 28th\, 2017 from 10am to 2pm at the Public Safety Building located at 2061 Third Street. Turn in your unused or expired medications for safe disposal. There is no cost to you and you may remain anonymous. There are no questions asked.&nbsp\;</span><br style="color: rgb(75\, 79\, 86)\; font-family: Helvetica\, Arial\, sans-serif\; font-size: 14px\;" />\n<span style="color: rgb(75\, 79\, 86)\; font-family: Helvetica\, Arial\, sans-serif\; font-size: 14px\;">*Pet medications are accepted.&nbsp\;</span><br style="color: rgb(75\, 79\, 86)\; font-family: Helvetica\, Arial\, sans-serif\; font-size: 14px\;" />\n<span style="color: rgb(75\, 79\, 86)\; font-family: Helvetica\, Arial\, sans-serif\; font-size: 14px\;">**Needles (sharps) are NOT accepted.</span>
LOCATION:Public Safety Building located at 2061 Third Street.
UID:e.1883.367
SEQUENCE:3
DTSTAMP:20260423T032552Z
URL:https://business.lavernechamber.org/events/details/dea-drug-takeback-367
END:VEVENT

END:VCALENDAR
