BEGIN:VCALENDAR
VERSION:2.0
PRODID:-//ChamberMaster//Event Calendar 2.0//EN
METHOD:PUBLISH
X-PUBLISHED-TTL:P3D
REFRESH-INTERVAL:P3D
CALSCALE:GREGORIAN
BEGIN:VEVENT
DTSTART:20180428T170000Z
DTEND:20180428T210000Z
X-MICROSOFT-CDO-ALLDAYEVENT:FALSE
SUMMARY:DEA Drug TakeBack
DESCRIPTION:The La Verne Police Department and the Drug Enforcement Administration (DEA) will be taking back unwanted prescription drugs on Saturday\, April 28\, 2018 from 10:00am to 2:00pm. \n\nThis event addresses a vital public safety and public health issue and gives our community the opportunity to rid their homes of potentially dangerous expired\, unused\, and unwanted prescription drugs. The service is free and anonymous\, no questions asked
X-ALT-DESC;FMTTYPE=text/html:<span style="color: rgb(75\, 79\, 86)\; font-family: Helvetica\, Arial\, sans-serif\; font-size: 14px\;">The La Verne Police Department and the Drug Enforcement Administration (DEA) will be taking back unwanted prescription drugs on Saturday\, April 28\, 2018 from 10:00am to 2:00pm.&nbsp\;</span><br style="color: rgb(75\, 79\, 86)\; font-family: Helvetica\, Arial\, sans-serif\; font-size: 14px\;" />\n<span style="color: rgb(75\, 79\, 86)\; font-family: Helvetica\, Arial\, sans-serif\; font-size: 14px\;">This event addresses a vital public safety and public health issue and gives our community the opportunity to rid their homes of potentially dangerous expired\, unused\, and unwanted prescription drugs. The service is free and anonymous\, no questions asked</span>
LOCATION:La Verne Police Department 2061 3rd Street
UID:e.1883.638
SEQUENCE:3
DTSTAMP:20260422T180503Z
URL:https://business.lavernechamber.org/events/details/dea-drug-takeback-638
END:VEVENT

END:VCALENDAR
