BEGIN:VCALENDAR
VERSION:2.0
PRODID:-//ChamberMaster//Event Calendar 2.0//EN
METHOD:PUBLISH
X-PUBLISHED-TTL:P3D
REFRESH-INTERVAL:P3D
CALSCALE:GREGORIAN
BEGIN:VEVENT
DTSTART:20191026T010000Z
DTEND:20191026T050000Z
X-MICROSOFT-CDO-ALLDAYEVENT:FALSE
SUMMARY:DJ M4c3LO's Flashback Friday- No One Lives Forever: The Music of Oingo Boingo
DESCRIPTION:Get ready to enjoy everything that is Oingo Boingo including the complete Farewell Concert Playlist\, plus bonus tracks from Mystic Knights\, Food for Feet\, and Danny Elfman. Stop by and get ready to rock out on Friday\, October 25th at 6pm.
X-ALT-DESC;FMTTYPE=text/html:Get ready to enjoy everything that is Oingo Boingo including the complete Farewell Concert Playlist\, plus bonus tracks from Mystic Knights\, Food for Feet\, and Danny Elfman. Stop by and get ready to rock out on Friday\, October 25th at 6pm.&nbsp\;
LOCATION:La Verne Brewing Co
UID:e.1883.1992
SEQUENCE:3
DTSTAMP:20260421T145303Z
URL:https://business.lavernechamber.org/events/details/dj-m4c3lo-s-flashback-friday-no-one-lives-forever-the-music-of-oingo-boingo-1992
END:VEVENT

END:VCALENDAR
