BEGIN:VCALENDAR
VERSION:2.0
PRODID:-//ChamberMaster//Event Calendar 2.0//EN
METHOD:PUBLISH
X-PUBLISHED-TTL:P3D
REFRESH-INTERVAL:P3D
CALSCALE:GREGORIAN
BEGIN:VEVENT
DTSTART:20191221T020000Z
DTEND:20191221T060000Z
X-MICROSOFT-CDO-ALLDAYEVENT:FALSE
SUMMARY:DJ M4c3LO's Flashback Friday- Triumvirate III: Janet Jackson\, Whitney Houston\, and Mariah Carey
DESCRIPTION:Join DJ Marcelo and La Verne Brewing Co for a night of powerhouse female singers. DJ Marcelo will play Janet Jackson\, Whitney Houston\, and Mariah Careys best stuff.
X-ALT-DESC;FMTTYPE=text/html:Join DJ Marcelo and La Verne Brewing Co for a night of powerhouse female singers. DJ Marcelo will play Janet Jackson\, Whitney Houston\, and Mariah Careys best stuff.&nbsp\;
LOCATION:La Verne Brewing Co
UID:e.1883.2147
SEQUENCE:3
DTSTAMP:20260421T145210Z
URL:https://business.lavernechamber.org/events/details/dj-m4c3lo-s-flashback-friday-triumvirate-iii-janet-jackson-whitney-houston-and-mariah-carey-2147
END:VEVENT

END:VCALENDAR
