BEGIN:VCALENDAR
VERSION:2.0
PRODID:-//ChamberMaster//Event Calendar 2.0//EN
METHOD:PUBLISH
X-PUBLISHED-TTL:P3D
REFRESH-INTERVAL:P3D
CALSCALE:GREGORIAN
BEGIN:VEVENT
DTSTART:20190720T010000Z
DTEND:20190720T050000Z
X-MICROSOFT-CDO-ALLDAYEVENT:FALSE
SUMMARY:DJ M4RC3L0's Flashback Friday at La Verne Brewing
DESCRIPTION:J M4RC3L0 Presents... Brat Pack: The Music Of John Hughes Movies\n\nGreat Beer... Great Music... Great Memories\n\nRelive the music of the Brat Pack. DJ Marcelo has gathered together the music of the John Hughes movies for a night to remember. Grab a beer and relieve your teenage years
X-ALT-DESC;FMTTYPE=text/html:<span style="color: rgb(29\, 33\, 41)\; font-family: Helvetica\, Arial\, sans-serif\; font-size: 14px\; white-space: pre-wrap\;">J M4RC3L0 Presents... Brat Pack: The Music Of John Hughes Movies</span><br style="color: rgb(29\, 33\, 41)\; font-family: Helvetica\, Arial\, sans-serif\; font-size: 14px\; white-space: pre-wrap\;" />\n<span style="color: rgb(29\, 33\, 41)\; font-family: Helvetica\, Arial\, sans-serif\; font-size: 14px\; white-space: pre-wrap\;">Great Beer... Great Music... Great Memories</span><br />\nRelive the music of the Brat Pack. DJ Marcelo has gathered together the music of the John Hughes movies for a night to remember. Grab a beer and relieve your teenage years
LOCATION:La Verne Brewing
UID:e.1883.1478
SEQUENCE:3
DTSTAMP:20260421T190933Z
URL:https://business.lavernechamber.org/events/details/dj-m4rc3l0-s-flashback-friday-at-la-verne-brewing-1478
END:VEVENT

END:VCALENDAR
