BEGIN:VCALENDAR
VERSION:2.0
PRODID:-//ChamberMaster//Event Calendar 2.0//EN
METHOD:PUBLISH
X-PUBLISHED-TTL:P3D
REFRESH-INTERVAL:P3D
CALSCALE:GREGORIAN
BEGIN:VEVENT
DTSTART:20191215T020000Z
DTEND:20191215T070000Z
X-MICROSOFT-CDO-ALLDAYEVENT:FALSE
SUMMARY:DJ M4RC3LO- Benefit for the LA Food Bank
DESCRIPTION:DJ Marcelo is back with another charity event. This time it is to befit the Backpack Program of the Los Angeles Regional Food Bank. Enjoy a night of Jazz and support a good cause!
X-ALT-DESC;FMTTYPE=text/html:DJ Marcelo is back with another charity event. This time it is to befit the Backpack Program of the Los Angeles Regional Food Bank. Enjoy a night of Jazz and support a good cause!
LOCATION:La Verne Brewing Company
UID:e.1883.2146
SEQUENCE:3
DTSTAMP:20260421T145332Z
URL:https://business.lavernechamber.org/events/details/dj-m4rc3lo-benefit-for-the-la-food-bank-2146
END:VEVENT

END:VCALENDAR
