BEGIN:VCALENDAR
VERSION:2.0
PRODID:-//ChamberMaster//Event Calendar 2.0//EN
METHOD:PUBLISH
X-PUBLISHED-TTL:P3D
REFRESH-INTERVAL:P3D
CALSCALE:GREGORIAN
BEGIN:VEVENT
DTSTART:20190420T170000Z
DTEND:20190421T060000Z
X-MICROSOFT-CDO-ALLDAYEVENT:FALSE
SUMMARY:Easter Egg Hunt
DESCRIPTION:The La Verne Rotary Club & The La Verne Community Services Department Co-Sponsor\n\nEaster Egg Hunt\n\nPARTICIPANTS MAY GATHER EGGS\, CANDY\, AND PRIZES. BRING YOUR OWN BASKET TO COLLECT THE EGGS.
X-ALT-DESC;FMTTYPE=text/html:<span style="font-size: 13px\;">The La Verne Rotary Club &amp\; The La Verne Community Services Department Co-Sponsor<br />\nEaster Egg Hunt</span><br />\n<span style="font-size: 13px\;">PARTICIPANTS MAY GATHER EGGS\, CANDY\, AND PRIZES. BRING YOUR OWN BASKET TO COLLECT THE EGGS.</span>
LOCATION:LAS FLORES PARK 3175 BOLLING AVE & EMERALD PARK CORNER OF GENESEE AND CHELSEA
UID:e.1883.1328
SEQUENCE:3
DTSTAMP:20260421T234631Z
URL:https://business.lavernechamber.org/events/details/easter-egg-hunt-1328
END:VEVENT

END:VCALENDAR
