BEGIN:VCALENDAR
VERSION:2.0
PRODID:-//ChamberMaster//Event Calendar 2.0//EN
METHOD:PUBLISH
X-PUBLISHED-TTL:P3D
REFRESH-INTERVAL:P3D
CALSCALE:GREGORIAN
BEGIN:VEVENT
DTSTART:20180331T170000Z
DTEND:20180331T190000Z
X-MICROSOFT-CDO-ALLDAYEVENT:FALSE
SUMMARY:Easter Egg Hunt
DESCRIPTION:The La Verne Rotary Club & The La Verne Community Service Department Co-Sponsor the Annual Easter Egg Hunt\, Saturday March 31\, 10:00 am sharp for kids ages 1 to 12 years. Participants may gather eggs\, candy and prizes. Bring your own basket to collect the eggs.
X-ALT-DESC;FMTTYPE=text/html:The La Verne Rotary Club &amp\; The La Verne Community Service Department Co-Sponsor the Annual Easter Egg Hunt\, Saturday March 31\, 10:00 am sharp for kids ages 1 to 12 years. Participants may gather eggs\, candy and prizes. Bring your own basket to collect the eggs.
LOCATION:Las Flores Park\, 3175 Bolling Ave. Emerald Park\, corner of Genesee and Chelsea
UID:e.1883.502
SEQUENCE:3
DTSTAMP:20260422T194329Z
URL:https://business.lavernechamber.org/events/details/easter-egg-hunt-502
END:VEVENT

END:VCALENDAR
