BEGIN:VCALENDAR
VERSION:2.0
PRODID:-//ChamberMaster//Event Calendar 2.0//EN
METHOD:PUBLISH
X-PUBLISHED-TTL:P3D
REFRESH-INTERVAL:P3D
CALSCALE:GREGORIAN
BEGIN:VEVENT
DTSTART:20191220T190000Z
DTEND:20191221T000000Z
X-MICROSOFT-CDO-ALLDAYEVENT:FALSE
SUMMARY:EDGEiWEAR Warehouse Samples Sale
DESCRIPTION:Get more for less. Treat yourself to a well-deserved shopping spree\, and fill your closet with great fashion finds!
X-ALT-DESC;FMTTYPE=text/html:Get more for less. Treat yourself to a well-deserved shopping spree\, and fill your closet with great fashion finds!
LOCATION:EDGEiWEAR
UID:e.1883.2148
SEQUENCE:3
DTSTAMP:20260421T161313Z
URL:https://business.lavernechamber.org/events/details/edgeiwear-warehouse-samples-sale-2148
END:VEVENT

END:VCALENDAR
