BEGIN:VCALENDAR
VERSION:2.0
PRODID:-//ChamberMaster//Event Calendar 2.0//EN
METHOD:PUBLISH
X-PUBLISHED-TTL:P3D
REFRESH-INTERVAL:P3D
CALSCALE:GREGORIAN
BEGIN:VEVENT
DTSTART:20190614T153000Z
DTEND:20190614T163000Z
X-MICROSOFT-CDO-ALLDAYEVENT:FALSE
SUMMARY:Education & Workforce Development Committee Meeting
DESCRIPTION:The Education and Workforce Development Committee supports excellence in education and promotes meaningful business/education relationships with public and private schools.\n\nThe committee is responsible for the coordination of the Teacher of the Year\, Principal for a Day and other events or programs determined beneficial for the business/education community.\n\nThe committee meets monthly\, and is open to the Chamber Membership
X-ALT-DESC;FMTTYPE=text/html:<p style="box-sizing: border-box\; margin: 0px\; padding: 0px 0px 1em\; border: 0px\; outline: 0px\; background-image: initial\; background-position: initial\; background-size: initial\; background-repeat: initial\; background-attachment: initial\; background-origin: initial\; background-clip: initial\; font-size: 14px\; vertical-align: baseline\; color: rgb(117\, 117\, 117)\; font-family: &quot\;Open Sans&quot\;\, Arial\, sans-serif\;">The Education and Workforce Development Committee supports excellence in education and promotes meaningful business/education relationships with public and private schools.</p>\n\n<p style="box-sizing: border-box\; margin: 0px\; padding: 0px 0px 1em\; border: 0px\; outline: 0px\; background-image: initial\; background-position: initial\; background-size: initial\; background-repeat: initial\; background-attachment: initial\; background-origin: initial\; background-clip: initial\; font-size: 14px\; vertical-align: baseline\; color: rgb(117\, 117\, 117)\; font-family: &quot\;Open Sans&quot\;\, Arial\, sans-serif\;">The committee is responsible for the coordination of the Teacher of the Year\, Principal for a Day and other events or programs determined beneficial for the business/education community.</p>\n\n<p style="box-sizing: border-box\; margin: 0px\; padding: 0px 0px 1em\; border: 0px\; outline: 0px\; background-image: initial\; background-position: initial\; background-size: initial\; background-repeat: initial\; background-attachment: initial\; background-origin: initial\; background-clip: initial\; font-size: 14px\; vertical-align: baseline\; color: rgb(117\, 117\, 117)\; font-family: &quot\;Open Sans&quot\;\, Arial\, sans-serif\;">The committee meets monthly\, and is open to the Chamber Membership</p>\n
LOCATION:Mathnasium 1568 Foothill Blvd.
UID:e.1883.587
SEQUENCE:3
DTSTAMP:20260421T204344Z
URL:https://business.lavernechamber.org/events/details/education-workforce-development-committee-meeting-06-14-2019-587
END:VEVENT

END:VCALENDAR
