BEGIN:VCALENDAR
VERSION:2.0
PRODID:-//ChamberMaster//Event Calendar 2.0//EN
METHOD:PUBLISH
X-PUBLISHED-TTL:P3D
REFRESH-INTERVAL:P3D
CALSCALE:GREGORIAN
BEGIN:VEVENT
DTSTART:20140325T150000Z
DTEND:20140325T163000Z
X-MICROSOFT-CDO-ALLDAYEVENT:FALSE
SUMMARY:Elder Care Seminar
DESCRIPTION:Presented by Carlos A. Arcos\, Elder Care Planning Attorney.\n\nPlanning for care of an aging parent\, Preventing disqualification from Medi-Cal\, Understanding Medicare & Medi-Cal.
X-ALT-DESC;FMTTYPE=text/html:Presented by Carlos A. Arcos\, Elder Care Planning Attorney.<br />\nPlanning for care of an aging parent\, Preventing disqualification from Medi-Cal\, Understanding Medicare &amp\; Medi-Cal.
LOCATION:Hillcrest Homes\, 2705 Mountain View Dr\, La Verne
UID:e.1883.40
SEQUENCE:3
DTSTAMP:20260426T013707Z
URL:https://business.lavernechamber.org/events/details/elder-care-seminar-03-25-2014-40
END:VEVENT

END:VCALENDAR
