BEGIN:VCALENDAR
VERSION:2.0
PRODID:-//ChamberMaster//Event Calendar 2.0//EN
METHOD:PUBLISH
X-PUBLISHED-TTL:P3D
REFRESH-INTERVAL:P3D
CALSCALE:GREGORIAN
BEGIN:VEVENT
DTSTART:20190518T170000Z
DTEND:20190518T210000Z
X-MICROSOFT-CDO-ALLDAYEVENT:FALSE
SUMMARY:Emergency Preparedness Fair
DESCRIPTION:Learn To Prepare for Disasters\n\nActivites for Kids & Adults\n\n\n	Yogi Bear's Shakey-Quakey Schoolhouse\n	Red Cross info & Emerg. Prep. Starter Kits\n	Demonstrations from Police\, Fire & Sherrifs\n	Speakers & Presentations\n	Pet Preparadness\n\n\nFREE Hot Dogs & Burgers 11:30-1:30\n\nDoor Prizes & Giveaways\n\nHosted by:\n\nAzusa Unified School District\n\nin Collaboration with:\n\nAmerican Red Cross\n\nCounty of Los Angeles Fire Department\n\nLos Angeles County Sherrif
X-ALT-DESC;FMTTYPE=text/html:<div style="text-align: center\;"><span style="font-size:14px\;">Learn To Prepare for Disasters<br />\nActivites for Kids &amp\; Adults</span></div>\n\n<ul style="margin-left: 240px\;">\n	<li><span style="font-size:14px\;">Yogi Bear&#39\;s Shakey-Quakey Schoolhouse</span></li>\n	<li><span style="font-size:14px\;">Red Cross info &amp\; Emerg. Prep. Starter Kits</span></li>\n	<li><span style="font-size:14px\;">Demonstrations from Police\, Fire &amp\; Sherrifs</span></li>\n	<li><span style="font-size:14px\;">Speakers &amp\; Presentations</span></li>\n	<li><span style="font-size:14px\;">Pet Preparadness</span></li>\n</ul>\n\n<div style="text-align: center\;"><span style="font-size:14px\;">FREE Hot Dogs &amp\; Burgers 11:30-1:30<br />\nDoor Prizes &amp\; Giveaways</span></div>\n\n<div style="text-align: center\;"><span style="font-size:14px\;">Hosted by:<br />\nAzusa Unified School District<br />\nin Collaboration with:<br />\nAmerican Red Cross<br />\nCounty of Los Angeles Fire Department<br />\nLos Angeles County Sherrif</span></div>\n
LOCATION:Azusa High School Gymnasium
UID:e.1883.1365
SEQUENCE:3
DTSTAMP:20260421T234316Z
URL:https://business.lavernechamber.org/events/details/emergency-preparedness-fair-1365
END:VEVENT

END:VCALENDAR
