BEGIN:VCALENDAR
VERSION:2.0
PRODID:-//ChamberMaster//Event Calendar 2.0//EN
METHOD:PUBLISH
X-PUBLISHED-TTL:P3D
REFRESH-INTERVAL:P3D
CALSCALE:GREGORIAN
BEGIN:VEVENT
DTSTART:20190713T020000Z
DTEND:20190713T040000Z
X-MICROSOFT-CDO-ALLDAYEVENT:FALSE
SUMMARY:Empowerment Night at United Sports Academy
DESCRIPTION:Empowerment Night at United Sports Academy with special guest speaker Myles Kovacs. This event is free for all ages. If you would like to participate in the event\, we are looking for chairs and refreshments for all that attend. Please spread the word as we would like to have a good crowd to hear his story. Any questions please email me at milo@capefitness.net.
X-ALT-DESC;FMTTYPE=text/html:<span style="background-color:rgb(255\, 255\, 255)\; color:rgb(66\, 66\, 66)\; font-family:arial\,helvetica\,sans-serif\; font-size:12px">Empowerment Night at United Sports Academy with special guest speaker Myles Kovacs. This event is free for all ages. If you would like to participate in the event\, we are looking for chairs and refreshments for all that attend. Please spread the word as we would like to have a good crowd to hear his story. Any questions please email me at milo@capefitness.net.</span>
LOCATION:United Sports Academy
UID:e.1883.1474
SEQUENCE:3
DTSTAMP:20260421T191107Z
URL:https://business.lavernechamber.org/events/details/empowerment-night-at-united-sports-academy-1474
END:VEVENT

END:VCALENDAR
