BEGIN:VCALENDAR
VERSION:2.0
PRODID:-//ChamberMaster//Event Calendar 2.0//EN
METHOD:PUBLISH
X-PUBLISHED-TTL:P3D
REFRESH-INTERVAL:P3D
CALSCALE:GREGORIAN
BEGIN:VEVENT
DTSTART:20171104T200000Z
DTEND:20171105T030000Z
X-MICROSOFT-CDO-ALLDAYEVENT:FALSE
SUMMARY:En Memoria
DESCRIPTION:En Memoria is a Dia de Los Muertos event that brings together both visual artist and lowrider culture to the Fairplex grounds to celebrate through art\, music and great food in partnership with local restaurant Dia de Los Puercos. It is the second event in a series of programs launched under Mi POCO LA which aims to combine the traditions of altar making with the contemporary artistic representation of lowrider car culture.
X-ALT-DESC;FMTTYPE=text/html:<p><span style="text-align: center\;"><span style="font-family: tahoma\; font-size: 18px\;">En&nbsp\;Memoria is a Dia de Los Muertos event that brings together both visual artist and lowrider culture to the&nbsp\;</span></span><span style="font-size:18px\;"><span style="font-family:tahoma\;"><a class="yellow-link" href="http://fairplex.com/" style="box-sizing: border-box\; color: rgb(206\, 98\, 77)\; text-decoration-line: none\; transition: all 0.3s ease 0s\; outline: none\; font-weight: bold\; font-family: Roboto\, sans-serif\; font-size: 20px\; text-align: center\;" target="_blank">Fairplex</a><span style="text-align: center\;">&nbsp\;grounds to celebrate through art\, music and great food in partnership with local restaurant&nbsp\;</span><a class="yellow-link" href="https://www.ddlpla.com/" style="box-sizing: border-box\; color: rgb(206\, 98\, 77)\; text-decoration-line: none\; transition: all 0.3s ease 0s\; outline: none\; font-weight: bold\; font-family: Roboto\, sans-serif\; font-size: 20px\; text-align: center\;" target="_blank">Dia de Los Puercos</a><span style="text-align: center\;">. It is the second event in a series of programs launched under Mi POCO LA which aims to combine the traditions of altar making with the contemporary artistic representation of lowrider car culture.</span></span></span></p>\n
LOCATION:Fairplex 1101 W McKinley Ave\, Pomona
UID:e.1883.417
SEQUENCE:3
DTSTAMP:20260423T014557Z
URL:https://business.lavernechamber.org/events/details/en-memoria-417
END:VEVENT

END:VCALENDAR
